BEGIN:VCALENDAR
VERSION:2.0
PRODID:-//Tukios.com/
BEGIN:VEVENT
UID:cce4d10c-4be1-4125-8af8-2ac732eef229@www.destinyfuneralhome.com
DTSTAMP:20260425T032535Z
DTSTART:20260516T170000Z
DTEND:20260516T210000Z
SUMMARY:Celebration of Life
DESCRIPTION:
URL:https://www.destinyfuneralhome.com/obituaries/pamela-green
LOCATION: 5443 Long Beach Blvd  Long Beach CA 90805
GEO:33.8552663;-118.1973088
END:VEVENT
END:VCALENDAR