BEGIN:VCALENDAR
VERSION:2.0
PRODID:-//Tukios.com/
BEGIN:VEVENT
UID:139adc56-17b6-471e-ae2b-d4e8ba59a175@www.destinyfuneralhome.com
DTSTAMP:20260420T195056Z
DTSTART:20260504T170000Z
DTEND:20260504T194500Z
SUMMARY:Celebration of Life
DESCRIPTION:
URL:https://www.destinyfuneralhome.com/obituaries/peternel-carter
LOCATION: 5443 Long Beach Blvd.  Long Beach CA 90805
GEO:33.855361;-118.1973316
END:VEVENT
END:VCALENDAR