BEGIN:VCALENDAR
VERSION:2.0
PRODID:-//Tukios.com/
BEGIN:VEVENT
UID:3315d39d-c246-4887-a2a3-472372737f91@www.destinyfuneralhome.com
DTSTAMP:20260420T195735Z
DTSTART:20260504T203000Z
DTEND:20260504T210000Z
SUMMARY:Graveside Service
DESCRIPTION:
URL:https://www.destinyfuneralhome.com/obituaries/peternel-carter
LOCATION: 11142 Artesia Blvd  Cerritos CA 90703
GEO:33.8715639;-118.095968
END:VEVENT
END:VCALENDAR