BEGIN:VCALENDAR
VERSION:2.0
PRODID:-//Tukios.com/
BEGIN:VEVENT
UID:0956a9a6-215b-4aa5-a64b-0f32b990ffe4@www.destinyfuneralhome.com
DTSTAMP:20260422T001707Z
DTSTART:20260516T170000Z
DTEND:20260516T210000Z
SUMMARY:Prayer Service
DESCRIPTION:
URL:https://www.destinyfuneralhome.com/obituaries/samoeun-nop
LOCATION: 5443 Long Beach Blvd  Long Beach CA 90805
GEO:33.8552663;-118.1973088
END:VEVENT
END:VCALENDAR