BEGIN:VCALENDAR
VERSION:2.0
PRODID:-//Tukios.com/
BEGIN:VEVENT
UID:83687cf6-5352-437f-8698-c00da835c2b8@www.destinyfuneralhome.com
DTSTAMP:20260422T001123Z
DTSTART:20260516T210000Z
DTEND:20260516T213000Z
SUMMARY:Witness Cremation
DESCRIPTION:
URL:https://www.destinyfuneralhome.com/obituaries/samoeun-nop
LOCATION: 5443 Long Beach Blvd  Long Beach CA 90805
GEO:33.8552663;-118.1973088
END:VEVENT
END:VCALENDAR